BEGIN:VCALENDAR
VERSION:2.0
PRODID:-//Deutscher Hobby Horsing Verband e. V. - ECPv6.15.17.1//NONSGML v1.0//EN
CALSCALE:GREGORIAN
METHOD:PUBLISH
X-ORIGINAL-URL:https://deutscher-hobby-horsing-verband.de
X-WR-CALDESC:Veranstaltungen für Deutscher Hobby Horsing Verband e. V.
REFRESH-INTERVAL;VALUE=DURATION:PT1H
X-Robots-Tag:noindex
X-PUBLISHED-TTL:PT1H
BEGIN:VTIMEZONE
TZID:Europe/Berlin
BEGIN:DAYLIGHT
TZOFFSETFROM:+0100
TZOFFSETTO:+0200
TZNAME:CEST
DTSTART:20250330T010000
END:DAYLIGHT
BEGIN:STANDARD
TZOFFSETFROM:+0200
TZOFFSETTO:+0100
TZNAME:CET
DTSTART:20251026T010000
END:STANDARD
BEGIN:DAYLIGHT
TZOFFSETFROM:+0100
TZOFFSETTO:+0200
TZNAME:CEST
DTSTART:20260329T010000
END:DAYLIGHT
BEGIN:STANDARD
TZOFFSETFROM:+0200
TZOFFSETTO:+0100
TZNAME:CET
DTSTART:20261025T010000
END:STANDARD
BEGIN:DAYLIGHT
TZOFFSETFROM:+0100
TZOFFSETTO:+0200
TZNAME:CEST
DTSTART:20270328T010000
END:DAYLIGHT
BEGIN:STANDARD
TZOFFSETFROM:+0200
TZOFFSETTO:+0100
TZNAME:CET
DTSTART:20271031T010000
END:STANDARD
END:VTIMEZONE
BEGIN:VEVENT
DTSTART;TZID=Europe/Berlin:20260104T080000
DTEND;TZID=Europe/Berlin:20260104T200000
DTSTAMP:20260421T172733
CREATED:20250510T221745Z
LAST-MODIFIED:20251208T063846Z
UID:6977-1767513600-1767556800@deutscher-hobby-horsing-verband.de
SUMMARY:Qualifikationsturnier für die 2. Deutsche Meisterschaft in München (Bayern)
DESCRIPTION:Dir finale Zeiteinteilung findest du eine vor vor dem Turnier in Equi-Score. Der Link ist dann DtHHV Infopoint zu finden.Hier: INFOPINT \n\n\n\nHobby Horsing Turnier – Fablehorse in München \n\n\n\nVeranstalter: Fablehorse München – Ria KochAnsprechpartner: Tina Gardt | meisterschaft@dthhv.de Nennschluss: 07. Dezember 2025 \n\n\n\nNennschluss \n\n\n\n\n\n\n\n>>> Ausschreibung <<< \n\n\n\n\n\n\n\nWettbewerbe:  \n\n\n\n\nDressur schwer (U12\, U15\, U21\, U31\, U99)\n\n\n\nStilspringen mittel – 50cm (U12\, U99)\n\n\n\nStilspringen schwer – 60/70cm (U15\, U21\, U31)Zeitspringen mittel – 50cm (U12\, U99)\n\n\n\nZeitspringen schwer -60/70cm (U15\, U21\, U31)\n\n\n\n\n\n\n\n\nGrundsätzliche Regelungen:\n\n\n\nIn allen Prüfungen gilt das Regelwerk des DtHHV. \n\n\n\nEinteilung in Altersklassen:Um die Teilnehmer fair miteinander vergleichen zu können\, gibt es in allen Prüfungen eine Einteilung in die folgenden Altersklassen: \n\n\n\nAltersklassen für die Qualifikation:U12 Jahrgang 2017-2015U15 Jahrgang 2014-2012U21 Jahrgang 2011-2006U31 Jahrgang 2005-1996U99 Jahrgang 1995 und älter
URL:https://deutscher-hobby-horsing-verband.de/event/qualiturnier-2dm-muenchen/
LOCATION:Fablehorse Hobby Horses München\, Sporthalle\, München\, Bayern\, 80539\, Germany
CATEGORIES:Qualifikations-Turniere-2DM
END:VEVENT
BEGIN:VEVENT
DTSTART;TZID=Europe/Berlin:20260117T080000
DTEND;TZID=Europe/Berlin:20260117T170000
DTSTAMP:20260421T172733
CREATED:20250510T223537Z
LAST-MODIFIED:20251229T101331Z
UID:6983-1768636800-1768669200@deutscher-hobby-horsing-verband.de
SUMMARY:Qualifikationsturnier für die 2. Deutsche Meisterschaft in Niebüll (Schleswig-Holstein)
DESCRIPTION:Die Zeiteinteilung ist noch nicht abgeschlossen. \n\n\n\nHobby Horsing Turnier – TSV-Rot-Weiß Niebüll e.V. \n\n\n\nVeranstalter: TSV-Rot-Weiß Niebüll e.V.Ansprechpartner: Tina Gardt | meisterschaft@dthhv.de Nennschluss: 20. Dezember 2025 \n\n\n\nNennschluss \n\n\n\n\n\n\n\n>>> Ausschreibung <<< \n\n\n\n\n\n\n\nHinweis: Es gibt auch offene Wettbewerbe für alle Altersklassen und Hobby Horser\, die nicht an den Qualifikationsprüfungen teilnehmen wollen. Hier geht es zur Ausschreibung:Neujahrsturnier 2026 – TSV RW Niebüll \n\n\n\n\n\n\n\nWettbewerbe:  \n\n\n\n\nDressur schwer (U12\, U15\, U21\, U31\, U99)\n\n\n\nStilspringen mittel – 50cm (U12\, U99)\n\n\n\nStilspringen schwer – 60/70cm (U15\, U21\, U31)Zeitspringen mittel – 50cm (U12\, U99)\n\n\n\nZeitspringen schwer -60/70cm (U15\, U21\, U31)\n\n\n\n\n\n\n\n\nGrundsätzliche Regelungen:\n\n\n\nIn allen Prüfungen gilt das Regelwerk des DtHHV. \n\n\n\nEinteilung in Altersklassen:Um die Teilnehmer fair miteinander vergleichen zu können\, gibt es in allen Prüfungen eine Einteilung in die folgenden Altersklassen: \n\n\n\nAltersklassen für die Qualifikation:U12 Jahrgang 2017-2015U15 Jahrgang 2014-2012U21 Jahrgang 2011-2006U31 Jahrgang 2005-1996U99 Jahrgang 1995 und älter
URL:https://deutscher-hobby-horsing-verband.de/event/qualifikationsturnier-fuer-die-2-deutsche-meisterschaft-in-niebuell-schleswig-holstein/
LOCATION:TSV-Rot-Weiß Niebüll e.V.\, Gotteskoogstraße 50 (Schülerparkplatz – zur Halle)\, Niebüll\, Schleswig-Holstein\, 25899\, Germany
CATEGORIES:Qualifikations-Turniere-2DM
END:VEVENT
END:VCALENDAR