BEGIN:VCALENDAR
VERSION:2.0
PRODID:-//Deutscher Hobby Horsing Verband e. V. - ECPv6.15.17.1//NONSGML v1.0//EN
CALSCALE:GREGORIAN
METHOD:PUBLISH
X-ORIGINAL-URL:https://deutscher-hobby-horsing-verband.de
X-WR-CALDESC:Veranstaltungen für Deutscher Hobby Horsing Verband e. V.
REFRESH-INTERVAL;VALUE=DURATION:PT1H
X-Robots-Tag:noindex
X-PUBLISHED-TTL:PT1H
BEGIN:VTIMEZONE
TZID:Europe/Berlin
BEGIN:DAYLIGHT
TZOFFSETFROM:+0100
TZOFFSETTO:+0200
TZNAME:CEST
DTSTART:20250330T010000
END:DAYLIGHT
BEGIN:STANDARD
TZOFFSETFROM:+0200
TZOFFSETTO:+0100
TZNAME:CET
DTSTART:20251026T010000
END:STANDARD
BEGIN:DAYLIGHT
TZOFFSETFROM:+0100
TZOFFSETTO:+0200
TZNAME:CEST
DTSTART:20260329T010000
END:DAYLIGHT
BEGIN:STANDARD
TZOFFSETFROM:+0200
TZOFFSETTO:+0100
TZNAME:CET
DTSTART:20261025T010000
END:STANDARD
BEGIN:DAYLIGHT
TZOFFSETFROM:+0100
TZOFFSETTO:+0200
TZNAME:CEST
DTSTART:20270328T010000
END:DAYLIGHT
BEGIN:STANDARD
TZOFFSETFROM:+0200
TZOFFSETTO:+0100
TZNAME:CET
DTSTART:20271031T010000
END:STANDARD
END:VTIMEZONE
BEGIN:VEVENT
DTSTART;TZID=Europe/Berlin:20260201T080000
DTEND;TZID=Europe/Berlin:20260201T170000
DTSTAMP:20260421T184948
CREATED:20250909T111657Z
LAST-MODIFIED:20260106T093928Z
UID:7386-1769932800-1769965200@deutscher-hobby-horsing-verband.de
SUMMARY:Qualifikationsturnier für die 2. Deutsche Meisterschaft in Ditzingen (Baden-Württemberg)
DESCRIPTION:Die Zeiteinteilung ist noch nicht abgeschlossen. \n\n\n\nHobby Horsing Turnier – TSF Ditzingen 1893 e.V \n\n\n\nVeranstalter: TSF Ditzingen 1893 e.V | Tanja TurnerAnsprechpartner: Tina Gardt | meisterschaft@dthhv.deNennschluss: 04. Januar 2026 \n\n\n\nNennschluss \n\n\n\n\n\n\n\n>>> Ausschreibung <<< \n\n\n\n\n\n\n\nWettbewerbe: \n\n\n\n\nDressur schwer (U12\, U15\, U21\, U31\, U99)\n\n\n\nStilspringen mittel – 50cm (U12\, U99)\n\n\n\nStilspringen schwer – 60/70cm (U15\, U21\, U31)Zeitspringen mittel – 50cm (U12\, U99)\n\n\n\nZeitspringen schwer -60/70cm (U15\, U21\, U31)\n\n\n\n\n\n\n\n\nGrundsätzliche Regelungen:\n\n\n\nIn allen Prüfungen gilt das Regelwerk des DtHHV. \n\n\n\nEinteilung in Altersklassen:Um die Teilnehmer fair miteinander vergleichen zu können\, gibt es in allen Prüfungen eine Einteilung in die folgenden Altersklassen: \n\n\n\nAltersklassen für die Qualifikation:U12 Jahrgang 2017-2015U15 Jahrgang 2014-2012U21 Jahrgang 2011-2006U31 Jahrgang 2005-1996U99 Jahrgang 1995 und älter
URL:https://deutscher-hobby-horsing-verband.de/event/quali-2-ditzingen/
LOCATION:TSF Ditzingen 1893 e.V\, Sporthalle Ditzingen-Heimerdingen\, Weissacher Str. 44\, Ditzingen\, Baden-Württemberg\, 71254\, Germany
END:VEVENT
BEGIN:VEVENT
DTSTART;TZID=Europe/Berlin:20260208T080000
DTEND;TZID=Europe/Berlin:20260208T170000
DTSTAMP:20260421T184948
CREATED:20250909T113031Z
LAST-MODIFIED:20260111T225729Z
UID:7389-1770537600-1770570000@deutscher-hobby-horsing-verband.de
SUMMARY:Qualifikationsturnier für die 2. Deutsche Meisterschaft in Zornheim (Rheinland-Pfalz)
DESCRIPTION:Die Zeiteinteilung ist noch nicht abgeschlossen. \n\n\n\nHobby Horsing Turnier – Turn- und Sportverein 1895 e.V. Zornheim \n\n\n\nVeranstalter: TSV Zornheim 1895 e.V Ansprechpartner: Tina Gardt | meisterschaft@dthhv.deNennschluss: 11. Januar 2026 \n\n\n\nNennschluss \n\n\n\n\n\n\n\n>>> Ausschreibung <<< \n\n\n\n\n\n\n\nWettbewerbe: \n\n\n\n\nDressur schwer (U12\, U15\, U21\, U31\, U99)\n\n\n\nStilspringen mittel – 50cm (U12\, U99)\n\n\n\nStilspringen schwer – 60/70cm (U15\, U21\, U31)Zeitspringen mittel – 50cm (U12\, U99)\n\n\n\nZeitspringen schwer -60/70cm (U15\, U21\, U31)\n\n\n\n\n\n\n\n\nGrundsätzliche Regelungen:\n\n\n\nIn allen Prüfungen gilt das Regelwerk des DtHHV. \n\n\n\nEinteilung in Altersklassen:Um die Teilnehmer fair miteinander vergleichen zu können\, gibt es in allen Prüfungen eine Einteilung in die folgenden Altersklassen: \n\n\n\nAltersklassen für die Qualifikation:U12 Jahrgang 2017-2015U15 Jahrgang 2014-2012U21 Jahrgang 2011-2006U31 Jahrgang 2005-1996U99 Jahrgang 1995 und älter
URL:https://deutscher-hobby-horsing-verband.de/event/quali-turnier-zornheim/
LOCATION:Turn- und Sportverein 1895 e.V. Zornheim\, Zum neuen Sportplatz 3\, Zornheim\, Rheinland-Pfalz\, 55270\, Germany
CATEGORIES:Events & Turniere,Qualifikations-Turniere-2DM
END:VEVENT
BEGIN:VEVENT
DTSTART;TZID=Europe/Berlin:20260228T100000
DTEND;TZID=Europe/Berlin:20260228T180000
DTSTAMP:20260421T184948
CREATED:20260215T104653Z
LAST-MODIFIED:20260226T150853Z
UID:7855-1772272800-1772301600@deutscher-hobby-horsing-verband.de
SUMMARY:Sichtungsprüfungen Europameisterschaft 2026 (FRA-HE)
DESCRIPTION:Am 06.06.2026 findet die erste Hobby Horsing Europameisterschaft in Prag (Tschechien) statt.Hierfür laden wir die Hobby Horsing Spitzensportler Deutschlands zur Sichtung herzlich ein. \n\n\n\nSichtungsprüfungen für die Europameisterschaft 2026. \n\n\n\nVeranstalter: Deutscher Hobby Horsing Verband e. V. Ansprechpartnerin: Tina Gardt | t.gardt@dthhv.de \n\n\n\nNennungschluss \n\n\n\n\nAusschreibung
URL:https://deutscher-hobby-horsing-verband.de/event/sichtungspruefungen-europameisterschaft-2026-fra-he/
LOCATION:Großsporthalle der Otto-Hahn-Schule\, Urseler Weg 27\, Frankfurt am Main\, Hessen\, 60437\, Germany
END:VEVENT
END:VCALENDAR